BEGIN:VCALENDAR
VERSION:2.0
PRODID:-//中部医業（クリニック）経営サポート - ECPv6.15.20//NONSGML v1.0//EN
CALSCALE:GREGORIAN
METHOD:PUBLISH
X-WR-CALNAME:中部医業（クリニック）経営サポート
X-ORIGINAL-URL:https://igyo-support.com
X-WR-CALDESC:中部医業（クリニック）経営サポート のイベント
REFRESH-INTERVAL;VALUE=DURATION:PT1H
X-Robots-Tag:noindex
X-PUBLISHED-TTL:PT1H
BEGIN:VTIMEZONE
TZID:Asia/Tokyo
BEGIN:STANDARD
TZOFFSETFROM:+0900
TZOFFSETTO:+0900
TZNAME:JST
DTSTART:20250101T000000
END:STANDARD
END:VTIMEZONE
BEGIN:VEVENT
DTSTART;TZID=Asia/Tokyo:20260317T140000
DTEND;TZID=Asia/Tokyo:20260317T160000
DTSTAMP:20260424T005257
CREATED:20251110T061518Z
LAST-MODIFIED:20251110T061518Z
UID:1628-1773756000-1773763200@igyo-support.com
SUMMARY:第60回 集患のための広告展開　[2026年3月17日(火) 14:00-16:00]
DESCRIPTION:
URL:https://igyo-support.com/event/20260317/
CATEGORIES:セミナー
END:VEVENT
END:VCALENDAR