BEGIN:VCALENDAR
VERSION:2.0
PRODID:-//中部医業（クリニック）経営サポート - ECPv6.15.20//NONSGML v1.0//EN
CALSCALE:GREGORIAN
METHOD:PUBLISH
X-ORIGINAL-URL:https://igyo-support.com
X-WR-CALDESC:中部医業（クリニック）経営サポート のイベント
REFRESH-INTERVAL;VALUE=DURATION:PT1H
X-Robots-Tag:noindex
X-PUBLISHED-TTL:PT1H
BEGIN:VTIMEZONE
TZID:Asia/Tokyo
BEGIN:STANDARD
TZOFFSETFROM:+0900
TZOFFSETTO:+0900
TZNAME:JST
DTSTART:20240101T000000
END:STANDARD
END:VTIMEZONE
BEGIN:VEVENT
DTSTART;TZID=Asia/Tokyo:20250616T080000
DTEND;TZID=Asia/Tokyo:20250616T170000
DTSTAMP:20260424T141354
CREATED:20250616T075228Z
LAST-MODIFIED:20250616T075228Z
UID:1567-1750060800-1750093200@igyo-support.com
SUMMARY:第51回　「いま」クリニックに求められる医療提供体制について[2025年6月17日(火) 14:00-16:00]
DESCRIPTION:2040 年頃に高齢者数がピークを迎え、生産年齢人口はほぼ全ての地域で減\n少するも、高齢者人口は大都市を中心に増加、過疎地域を中心に減少すること\nが見込まれる。\nまた、医療・介護のニーズが高まる 85 歳以上の高齢者が増加し、これに伴\nい、2040 年にかけて 85 歳以上の救急搬送は 75%増加し、85 歳以上の在宅医\n療需要は 62%増加すると見込まれる。\n2040 年に向けた医療提供体制の総合的な改革が「いま」始まろうとしてい\nる。\n2025 年病院の統廃合時代に突入、医師の余剰人員が出てくる。\n病院に求められる機能と、クリニックに求められる機能が 2040 年に向けて大\nきく変わろうとしている。\nクリニックは外来医療中心から、外来医療に加えて、2040 年にむけて在宅医\n療の需要の増加に対応するために、医療機関だけでなく訪問看護ステーショ\nン、歯科医療機関、薬局、介護施設等、多職種、多機関との連携し、地域の需\n要と資源に応じて供給力を高めることがクリニックに求められる。\n国が進める新たな医療提供体制について情報を共有し、これからのクリニッ\nク経営の参考にしていただけたら幸いです。 \n中部医業経営サポート\n前川 真吾 \nこちらの資料をダウンロードしてください。\n↓ \nクリニックにもとめられる医療提供体制プレゼン用 \n  \n\n\n\n講師]\n中部医業経営サポート　前川真吾\n\n\n[日時]\n第49回｜2025年06月17日（火）\n\n\n[時間]\n講演時間／14:00～15:30　質疑応答／15:30‐　終了予定／16:00\n\n\n[会場]\n名古屋駅前 ミッドランドスクエア豊田15F
URL:https://igyo-support.com/event/%e7%ac%ac51%e5%9b%9e%e3%80%80%e3%80%8c%e3%81%84%e3%81%be%e3%80%8d%e3%82%af%e3%83%aa%e3%83%8b%e3%83%83%e3%82%af%e3%81%ab%e6%b1%82%e3%82%81%e3%82%89%e3%82%8c%e3%82%8b%e5%8c%bb%e7%99%82%e6%8f%90%e4%be%9b/
END:VEVENT
END:VCALENDAR