BEGIN:VCALENDAR
VERSION:2.0
PRODID:-//中部医業（クリニック）経営サポート - ECPv6.15.20//NONSGML v1.0//EN
CALSCALE:GREGORIAN
METHOD:PUBLISH
X-ORIGINAL-URL:https://igyo-support.com
X-WR-CALDESC:中部医業（クリニック）経営サポート のイベント
REFRESH-INTERVAL;VALUE=DURATION:PT1H
X-Robots-Tag:noindex
X-PUBLISHED-TTL:PT1H
BEGIN:VTIMEZONE
TZID:Asia/Tokyo
BEGIN:STANDARD
TZOFFSETFROM:+0900
TZOFFSETTO:+0900
TZNAME:JST
DTSTART:20240101T000000
END:STANDARD
END:VTIMEZONE
BEGIN:VEVENT
DTSTART;TZID=Asia/Tokyo:20250218T140000
DTEND;TZID=Asia/Tokyo:20250218T160000
DTSTAMP:20260424T201926
CREATED:20250217T033932Z
LAST-MODIFIED:20250217T033932Z
UID:1503-1739887200-1739894400@igyo-support.com
SUMMARY:第47回看板のチカラ[2025年2月18日(火) 14:00-16:00]
DESCRIPTION:  \n\n\n\n[講師]\n中部医業経営サポート　安藤徳男\n\n\n[日時]\n第47回｜ 2025年02月18日(火)\n\n\n[時間]\n講演時間／14:00-15:30　質疑応答／15:30-　終了予定／16:00\n\n\n[会場]\nオンラインZoom受講\n\n\n\n \nセミナーにオンラインで参加する \n\n\n\n\nミーティング ID: 869 6917 5758\nパスコード: 123456\n\n\n\nダウンロードし資料を見ながらの視聴をお勧めします。\nセミナー日一週間前になりましたら下記にPDFダウンロードのリンクを貼ります。 \n下記のPDFをタップ \n↓ \n看板のチカラ
URL:https://igyo-support.com/event/20250218/
CATEGORIES:セミナー
END:VEVENT
END:VCALENDAR