BEGIN:VCALENDAR
VERSION:2.0
PRODID:-//中部医業（クリニック）経営サポート - ECPv6.15.20//NONSGML v1.0//EN
CALSCALE:GREGORIAN
METHOD:PUBLISH
X-WR-CALNAME:中部医業（クリニック）経営サポート
X-ORIGINAL-URL:https://igyo-support.com
X-WR-CALDESC:中部医業（クリニック）経営サポート のイベント
REFRESH-INTERVAL;VALUE=DURATION:PT1H
X-Robots-Tag:noindex
X-PUBLISHED-TTL:PT1H
BEGIN:VTIMEZONE
TZID:Asia/Tokyo
BEGIN:STANDARD
TZOFFSETFROM:+0900
TZOFFSETTO:+0900
TZNAME:JST
DTSTART:20230101T000000
END:STANDARD
END:VTIMEZONE
BEGIN:VEVENT
DTSTART;TZID=Asia/Tokyo:20241119T140000
DTEND;TZID=Asia/Tokyo:20241119T160000
DTSTAMP:20260425T004434
CREATED:20240922T083019Z
LAST-MODIFIED:20241117T114104Z
UID:1457-1732024800-1732032000@igyo-support.com
SUMMARY:第44回実例から学ぶつみたて投資の重要性[2024年11月19日(火) 14:00-16:00]
DESCRIPTION:自己紹介文 \n名古屋在住で、FLSjapan合同会社を経営しております\n増田貴哉と申します。 \n証券業界に30年以上携わり、現在はIFAとして\nFPアソシエイツ＆ファイナンシャルサービシーズに所属し\n楽天証券とSBI証券の外務員として活動しています。\n管理する口座は296件、総額25億円の預かり資産を運用しています。 \n「積立投資こそが最良」と考え、日本における投資教育の重要性を訴えています。\n私自身、4歳と2歳の子供たちに積立投資を行い\n将来の安定を目指しています。\n家庭では子供たちとトレーニングやストレッチを日課にし\n健康的な生活を心がけています。 \nハンドボールでは中学時代に埼玉県大会優勝\n高校・大学では全国準優勝や関東一部リーグで活躍しました。\n現在もアズーロと中京クラブで競技を続けています。 \nこれからも資産運用の専門家として\n皆様の経済的自由の実現をサポートしてまいります。 \n略歴 \n\n1966年12月8日 横浜で生まれる。埼玉で育つ。\n1989年3月 法政大学経済学部卒業。\n1989年4月 野村証券入社。資産運用の基礎を築く。\n2003年 トヨタFS証券に転職。経験をさらに深める。\n2010年 IFAとして独立。FPアソシエイツ＆ファイナンシャルサービシーズ所属。\n現在 FLSjapan合同会社を経営。管理資産は総額25億円。\nハンドボール経歴\n\n中学で県大会優勝、高校で全国準優勝。\n大学でインカレベスト8、現在もクラブチームで活動中。\n\n\n\n\n\n\n[講師]\n中部医業経営サポート　増田 貴哉\n\n\n[日時]\n第40回｜ 2024年11月19日(火)\n\n\n[時間]\n講演時間／14:00-15:30　質疑応答／15:30-　終了予定／16:00\n\n\n[会場]\nオンラインZoom受講\n\n\n\n \nセミナーにオンラインで参加する \n\n\n\n\nミーティング ID: 869 6917 5758\nパスコード: 123456\n\n\n\nダウンロードし資料を見ながらの視聴をお勧めします。\nセミナー日一週間前になりましたら下記にPDFダウンロードのリンクを貼ります。 \n下記のPDFをタップ \n↓ \n実例から学ぶつみたて投資の重要性・PDF
URL:https://igyo-support.com/event/20241119/
CATEGORIES:セミナー
END:VEVENT
END:VCALENDAR