BEGIN:VCALENDAR
VERSION:2.0
PRODID:-//中部医業（クリニック）経営サポート - ECPv6.15.20//NONSGML v1.0//EN
CALSCALE:GREGORIAN
METHOD:PUBLISH
X-ORIGINAL-URL:https://igyo-support.com
X-WR-CALDESC:中部医業（クリニック）経営サポート のイベント
REFRESH-INTERVAL;VALUE=DURATION:PT1H
X-Robots-Tag:noindex
X-PUBLISHED-TTL:PT1H
BEGIN:VTIMEZONE
TZID:Asia/Tokyo
BEGIN:STANDARD
TZOFFSETFROM:+0900
TZOFFSETTO:+0900
TZNAME:JST
DTSTART:20230101T000000
END:STANDARD
END:VTIMEZONE
BEGIN:VEVENT
DTSTART;TZID=Asia/Tokyo:20240917T140000
DTEND;TZID=Asia/Tokyo:20240917T160000
DTSTAMP:20260425T030734
CREATED:20240913T122654Z
LAST-MODIFIED:20240927T150626Z
UID:1438-1726581600-1726588800@igyo-support.com
SUMMARY:第42回税のあれこれ[2024年9月17日(火) 14:00-16:00]
DESCRIPTION:国家予算の社会保障費が年々増加していく中で\n国家財政の源となる「税金」について基礎から解説を行うとともに\n最近のトピックやクリニック経営の「個人」と「医療法人」経営のちがいなどをお話しいたします。 \n\n\n\n[講師]\nMAC&BPミッドランド税理士法人　鹿島　久敏\n\n\n[日時]\n第40回｜ 2024年9月17日(火)\n\n\n[時間]\n講演時間／14:00-15:30　質疑応答／15:30-　終了予定／16:00\n\n\n[会場]\nオンラインZoom受講\n\n\n\n \nセミナーにオンラインで参加する \n\n\n\n\nミーティング ID: 869 6917 5758\nパスコード: 123456\n\n\n\nこちらの資料をダウンロードしてください。\n↓ \n税のあれこれ・PDF
URL:https://igyo-support.com/event/20240917/
CATEGORIES:セミナー
END:VEVENT
END:VCALENDAR