BEGIN:VCALENDAR
VERSION:2.0
PRODID:-//中部医業（クリニック）経営サポート - ECPv6.15.20//NONSGML v1.0//EN
CALSCALE:GREGORIAN
METHOD:PUBLISH
X-ORIGINAL-URL:https://igyo-support.com
X-WR-CALDESC:中部医業（クリニック）経営サポート のイベント
REFRESH-INTERVAL;VALUE=DURATION:PT1H
X-Robots-Tag:noindex
X-PUBLISHED-TTL:PT1H
BEGIN:VTIMEZONE
TZID:Asia/Tokyo
BEGIN:STANDARD
TZOFFSETFROM:+0900
TZOFFSETTO:+0900
TZNAME:JST
DTSTART:20230101T000000
END:STANDARD
END:VTIMEZONE
BEGIN:VEVENT
DTSTART;TZID=Asia/Tokyo:20240618T140000
DTEND;TZID=Asia/Tokyo:20240618T160000
DTSTAMP:20260425T065131
CREATED:20240617T033124Z
LAST-MODIFIED:20240617T040209Z
UID:1386-1718719200-1718726400@igyo-support.com
SUMMARY:第39回医療DXについて[2024年6月18日(火) 14:00-16:00]
DESCRIPTION:「医療DXについて」 \n中部医業経営サポート     　前川　真吾 \n  \n我が国においては、世界的にも類を見ない早さで、高齢化が進行している。\n高齢化率は2050年には37.7％に達し、総人口も減少し超高齢化社会が到来する。 \nこのままでは、社会保障制度は破綻する。 \n超高齢化社会に直面する中、国民の健康寿命の延伸を図り、社会保障制度を将来にわたって\n持続可能なものとし、将来世代が安心して暮らしていけるようにするために、国主導で新たに\n「医療DX令和ビジョン2030」基本方針を2022年に打ち出した。 \nこのビジョンは、極めて重要な国家事業として行政のみならず、医療界、医学会、産業界\nが一丸となって「医療DX令和ビジョン2030」の実現に向けて取り組まなければならない\nと強いメッセージを出している。 \n医療DX推進本部資料から推進すべき施策として、「全国医療情報プラットホームの創設」\n「電子カルテ情報の標準化等」「診療報酬DX」の三つの施策を確認する。 \n本セミナーでは、医療DXはクリニックで何が実現できるのか、そしてそのDX推進のために\n取り組むべき課題なんなのか。 \n医療DX導入と自院での対応策について、考えて参りたいと思います。 \n\n\n\n[講師]\n前川　真吾\n\n\n[日時]\n第39回｜ 2024年6月18日(火)\n\n\n[時間]\n講演時間／14:00-15:30　質疑応答／15:30-　終了予定／16:00\n\n\n[会場]\nオンラインZoom受講\n\n\n\n  \nセミナーにオンラインで参加する \n\n\n\n\nミーティング ID: 869 6917 5758\nパスコード: 123456\n\n\n\nこちらの資料をダウンロードしてください。\n↓ \n医療DXについてPDF
URL:https://igyo-support.com/event/20240618/
END:VEVENT
END:VCALENDAR