BEGIN:VCALENDAR
VERSION:2.0
PRODID:-//中部医業（クリニック）経営サポート - ECPv6.15.20//NONSGML v1.0//EN
CALSCALE:GREGORIAN
METHOD:PUBLISH
X-ORIGINAL-URL:https://igyo-support.com
X-WR-CALDESC:中部医業（クリニック）経営サポート のイベント
REFRESH-INTERVAL;VALUE=DURATION:PT1H
X-Robots-Tag:noindex
X-PUBLISHED-TTL:PT1H
BEGIN:VTIMEZONE
TZID:Asia/Tokyo
BEGIN:STANDARD
TZOFFSETFROM:+0900
TZOFFSETTO:+0900
TZNAME:JST
DTSTART:20230101T000000
END:STANDARD
END:VTIMEZONE
BEGIN:VEVENT
DTSTART;TZID=Asia/Tokyo:20240521T140000
DTEND;TZID=Asia/Tokyo:20240521T160000
DTSTAMP:20260425T080648
CREATED:20240517T093124Z
LAST-MODIFIED:20240521T092127Z
UID:1334-1716300000-1716307200@igyo-support.com
SUMMARY:第38回やり方次第でこれだけ差がでる相続税[2024年5月21日(火) 14:00-16:00]
DESCRIPTION:やり方次第でこれだけ差がでる相続税～土地評価の具体例と相続税還付の実態～ \n還付セミナー紹介文 \n<<講師プロフィール>> \nフジ相続税理士法人/株式会社フジ総合鑑定 名古屋事務所 \n所長　税理士　田村嘉隆 \n年間約850件の相続関連業務を手掛けるフジ総合グループの名古屋事務所所長。 \n過去に世界60か国以上を4年半かけて旅をした経験を持ち、その中で身に染みた「一期一会の出会い」を大切にすべく\nより多くの方のお役に立てるように相続専門税理士となる。 \n各地で多数の相続関連のセミナー講師を務め、相続税は土地評価のやり方次第で納税額に大きな差が生じることや\n相続対策における土地評価の重要性など、難しい話を分かりやすい言葉で伝えられることに定評がある。 \n  \n<<セミナー紹介文章>> \nフジ総合グループは、東京、名古屋、大阪に拠点を持ち、創業以来28年間で6\,700件以上、年間850件以上の相続関連業務に\n携わってきました。弊社は、相続税と土地の評価に特化した事務所で、数多くの資産家様、不動産オーナー様のお役に立ちたい\n想いで、適正な土地評価による相続税申告をはじめ相続税還付や相続対策シミュレーションからの公正証書遺言や家族信託の\nご提案、不動産売却や不動産活用まで幅広くサポートさせて頂いております。 \n今回のセミナーでは、弊社の最大の強みである土地評価のノウハウを最大限に活かした相続税還付についてお伝えさせていただきます。みなさまは相続税申告期限から５年以内であれば、土地評価を見直して再度申告をすることにより納め過ぎた相続税が\n戻ってくることをご存知ですか？相続税の申告は、頼んだ税理士によって納税額が異なる場合があります。その原因となる\n「土地評価」のやり方と「相続税還付」の実態とそのノウハウの一部について、事例を交えてわかりやすくご紹介します。\n相続税申告期限から５年以内の方はもちろん、これから相続を迎える方も必聴のセミナーです！ \n\n\n\n[講師]\n田村嘉隆\n\n\n[日時]\n第38回｜ 2024年5月21日(火)\n\n\n[時間]\n講演時間／14:00-15:30　質疑応答／15:30-　終了予定／16:00\n\n\n[会場]\nオンラインZoom受講\n\n\n\n  \nセミナーにオンラインで参加する \n  \n\n\n\n\nミーティング ID: 869 6917 5758\nパスコード: 123456\n\n\n\nこちらの資料をダウンロードしてください。\n↓ \n会社案内パンフレット\nアンケート\nQR
URL:https://igyo-support.com/event/%e7%ac%ac38%e5%9b%9e%e3%82%84%e3%82%8a%e6%96%b9%e6%ac%a1%e7%ac%ac%e3%81%a7%e3%81%93%e3%82%8c%e3%81%a0%e3%81%91%e5%b7%ae%e3%81%8c%e3%81%a7%e3%82%8b%e7%9b%b8%e7%b6%9a%e7%a8%8e2024%e5%b9%b45%e6%9c%8821/
ATTACH;FMTTYPE=application/pdf:https://igyo-support.com/wp-content/uploads/2024/05/完成版2024.5.21_クリニックサポートセミナーレジメ-1.pdf
END:VEVENT
END:VCALENDAR