BEGIN:VCALENDAR
VERSION:2.0
PRODID:-//中部医業（クリニック）経営サポート - ECPv6.15.20//NONSGML v1.0//EN
CALSCALE:GREGORIAN
METHOD:PUBLISH
X-WR-CALNAME:中部医業（クリニック）経営サポート
X-ORIGINAL-URL:https://igyo-support.com
X-WR-CALDESC:中部医業（クリニック）経営サポート のイベント
REFRESH-INTERVAL;VALUE=DURATION:PT1H
X-Robots-Tag:noindex
X-PUBLISHED-TTL:PT1H
BEGIN:VTIMEZONE
TZID:Asia/Tokyo
BEGIN:STANDARD
TZOFFSETFROM:+0900
TZOFFSETTO:+0900
TZNAME:JST
DTSTART:20220101T000000
END:STANDARD
END:VTIMEZONE
BEGIN:VEVENT
DTSTART;TZID=Asia/Tokyo:20230822T140000
DTEND;TZID=Asia/Tokyo:20230822T160000
DTSTAMP:20260425T204142
CREATED:20230417T221639Z
LAST-MODIFIED:20230828T140011Z
UID:1018-1692712800-1692720000@igyo-support.com
SUMMARY:第29回 本当の資産運用とは？新NISA制度 [2023年8月22日(火) 14:00-16:00 @ウインクあいち]
DESCRIPTION:[講師]\nFLSjapan合同会社　代表　増田　貴哉\n\n\n[日時]\n\n\n第23回｜ 2023年8月22日(火)\n\n\n\n\n[時間]\n講演時間／14:00-15:30　質疑応答／15:30-　終了予定／16:00\n\n\n[会場]\nウインクあいち 1106号室 もしくは オンラインZoom受講\n\n\n\n \n \nセミナーにオンラインで参加する\n\n \n \n※zoomに入室された際に、zoom表示名をご自身のお名前でない方はご自身のお名前へ変更をお願いします。なりすまし対策の為、ご協力をお願いいたします。 \n \n \nオンラインで参加する
URL:https://igyo-support.com/event/20230822/
CATEGORIES:セミナー
END:VEVENT
END:VCALENDAR