BEGIN:VCALENDAR
VERSION:2.0
PRODID:-//中部医業（クリニック）経営サポート - ECPv6.15.20//NONSGML v1.0//EN
CALSCALE:GREGORIAN
METHOD:PUBLISH
X-WR-CALNAME:中部医業（クリニック）経営サポート
X-ORIGINAL-URL:https://igyo-support.com
X-WR-CALDESC:中部医業（クリニック）経営サポート のイベント
REFRESH-INTERVAL;VALUE=DURATION:PT1H
X-Robots-Tag:noindex
X-PUBLISHED-TTL:PT1H
BEGIN:VTIMEZONE
TZID:Asia/Tokyo
BEGIN:STANDARD
TZOFFSETFROM:+0900
TZOFFSETTO:+0900
TZNAME:JST
DTSTART:20220101T000000
END:STANDARD
END:VTIMEZONE
BEGIN:VEVENT
DTSTART;TZID=Asia/Tokyo:20230523T140000
DTEND;TZID=Asia/Tokyo:20230523T160000
DTSTAMP:20260426T012354
CREATED:20230417T221250Z
LAST-MODIFIED:20230521T103550Z
UID:1012-1684850400-1684857600@igyo-support.com
SUMMARY:第26回 接遇マナー [2023年5月23日(火) 14:00-16:00 @ウインクあいち]
DESCRIPTION:「おもてなし」があらゆる業種で重要とされている今、病院やクリニックなどの医療機関も例外ではありません。 \nまた、患者さんに選ばれるクリニックとなるためには、心地よい現場作りが必要となります。 \n「患者さんファースト」＝医療接遇とは何か、患者さんの立場に立って考えるとともに、目に見えない「思いやりの心」を形で表す礼儀（マナー）についてお伝えします。 \n\n\n\n[講師]\nビジネスマナー講師　竹内利美\n\n\n[日時]\n第26回｜ 2022年5月23日(火)\n\n\n[時間]\n講演時間／14:00-15:30　質疑応答／15:30-　終了予定／16:00\n\n\n[会場]\nウインクあいち 905号室 もしくは オンラインZoom受講\n\n\n\n \n \n \nセミナーにオンラインで参加する\n\n \n \n※zoomに入室された際に、zoom表示名をご自身のお名前でない方はご自身のお名前へ変更をお願いします。なりすまし対策の為、ご協力をお願いいたします。 \n \n\n\n以下、当日使用するセミナー資料となります。 \n医療接遇【敬語のチェック】 医療接遇【チェックリスト】 医療接遇【研修資料】 2023PROFILE竹内利美 \n接遇マナー【名古屋プリントアウト用】 \n当日までにダウンロード、印刷のご準備の程よろしくお願いします。 \n 
URL:https://igyo-support.com/event/20230523/
CATEGORIES:セミナー
END:VEVENT
END:VCALENDAR