BEGIN:VCALENDAR
VERSION:2.0
PRODID:-//中部医業（クリニック）経営サポート - ECPv6.15.20//NONSGML v1.0//EN
CALSCALE:GREGORIAN
METHOD:PUBLISH
X-ORIGINAL-URL:https://igyo-support.com
X-WR-CALDESC:中部医業（クリニック）経営サポート のイベント
REFRESH-INTERVAL;VALUE=DURATION:PT1H
X-Robots-Tag:noindex
X-PUBLISHED-TTL:PT1H
BEGIN:VTIMEZONE
TZID:Asia/Tokyo
BEGIN:STANDARD
TZOFFSETFROM:+0900
TZOFFSETTO:+0900
TZNAME:JST
DTSTART:20220101T000000
END:STANDARD
END:VTIMEZONE
BEGIN:VEVENT
DTSTART;TZID=Asia/Tokyo:20230117T140000
DTEND;TZID=Asia/Tokyo:20230117T163000
DTSTAMP:20260426T070706
CREATED:20220320T213728Z
LAST-MODIFIED:20230216T062623Z
UID:690-1673964000-1673973000@igyo-support.com
SUMMARY:第22回 屋外でのブランディング [2023年1月17日(火) 14:00-16:00 @ウインクあいち]
DESCRIPTION:  \n\n\n\n[講師]\n東海廣告株式会社　安藤徳男\n\n\n[日時]\n第22回｜ 2023年1月17日(火)\n\n\n[時間]\n講演時間／14:00-15:30　質疑応答／15:30-　終了予定／16:00\n\n\n[会場]\nウインクあいち 1004号室 もしくは オンラインZoom受講\n\n\n\n \n \n \nセミナーにオンラインで参加する\n\n \n \n※zoomに入室された際に、zoom表示名をご自身のお名前でない方はご自身のお名前へ変更をお願いします。なりすまし対策の為、ご協力をお願いいたします。 \n \n\n\n以下、当日使用するセミナー資料となります。\n当日までにダウンロード、印刷のご準備の程よろしくお願いします。 \n▶︎ こちらの資料をダウンロードしてください。
URL:https://igyo-support.com/event/20230117/
CATEGORIES:セミナー
ATTACH;FMTTYPE=image/jpeg:https://igyo-support.com/wp-content/uploads/2022/03/アセット-1-100.jpg
END:VEVENT
END:VCALENDAR