BEGIN:VCALENDAR
VERSION:2.0
PRODID:-//中部医業（クリニック）経営サポート - ECPv6.15.20//NONSGML v1.0//EN
CALSCALE:GREGORIAN
METHOD:PUBLISH
X-WR-CALNAME:中部医業（クリニック）経営サポート
X-ORIGINAL-URL:https://igyo-support.com
X-WR-CALDESC:中部医業（クリニック）経営サポート のイベント
REFRESH-INTERVAL;VALUE=DURATION:PT1H
X-Robots-Tag:noindex
X-PUBLISHED-TTL:PT1H
BEGIN:VTIMEZONE
TZID:Asia/Tokyo
BEGIN:STANDARD
TZOFFSETFROM:+0900
TZOFFSETTO:+0900
TZNAME:JST
DTSTART:20210101T000000
END:STANDARD
END:VTIMEZONE
BEGIN:VEVENT
DTSTART;TZID=Asia/Tokyo:20221122T140000
DTEND;TZID=Asia/Tokyo:20221122T163000
DTSTAMP:20260426T094604
CREATED:20220320T213518Z
LAST-MODIFIED:20221121T224505Z
UID:686-1669125600-1669134600@igyo-support.com
SUMMARY:第20回 公式LINEアカウント [2022年11月22日(火) 14:00-16:00 @ウインクあいち]
DESCRIPTION:最近LINE公式アカウントを利用して診察の予約をしたり、インフルエンザワクチンの接種予定を送ったり、問い合わせを受けたりするクリニックが増えています。実はLINEはメール・FACEBOOK・Instagram・Twitterと比べて圧倒的に「開封率が高い」というのはご存知でしょうか？ \nまた、利用する年代も若い人から高齢者まで多岐に渡っています。そんな中スマートフォンの普及率が目覚ましい今、スマートフォンに全て最適化する必要があります。 \nLINEがここまで勢力を伸ばしたのも、スマートフォンの機能に特化してきたからでしょう。スマートフォンだけ、WEBだけ…そんなサイトは今は通用しません。今こそマルチデバイス（PCもスマホも対応した）WEB作成、LINE、SEO、専門性が問われています。 \n今では自治体も上場企業もコロナワクチンの予約もLINEで情報が来て、LINEをクリックすることでほしい情報までたどり着く時代になっています。\n\n医業経営のお役に立つLINEの使い方や情報をお届けし、皆様の医業経営の一助になればと思っております。 \n\n\n\n[講師]\nArtsWeb株式会社　代表取締役　松浦　法子\n\n\n[日時]\n第19回｜ 2022年11月20日(火)\n\n\n[時間]\n講演時間／14:00-15:30　質疑応答／15:30-　終了予定／16:00\n\n\n[会場]\nウインクあいち 1004号室 もしくは オンラインZoom受講\n\n\n\n \n \n \nセミナーにオンラインで参加する\n\n \n \n※zoomに入室された際に、zoom表示名をご自身のお名前でない方はご自身のお名前へ変更をお願いします。なりすまし対策の為、ご協力をお願いいたします。 \n \n\n\n以下、当日使用するセミナー資料となります。\n当日までにダウンロード、印刷のご準備の程よろしくお願いします。 \n▶︎ こちらをダウンロードしてください。【医療向けLINE】
URL:https://igyo-support.com/event/20221122/
CATEGORIES:セミナー
ATTACH;FMTTYPE=image/gif:https://igyo-support.com/wp-content/uploads/2022/03/中部医業経営サポート　動画サムネイル　20221120-松浦.gif
END:VEVENT
END:VCALENDAR