BEGIN:VCALENDAR
VERSION:2.0
PRODID:-//中部医業（クリニック）経営サポート - ECPv6.15.20//NONSGML v1.0//EN
CALSCALE:GREGORIAN
METHOD:PUBLISH
X-WR-CALNAME:中部医業（クリニック）経営サポート
X-ORIGINAL-URL:https://igyo-support.com
X-WR-CALDESC:中部医業（クリニック）経営サポート のイベント
REFRESH-INTERVAL;VALUE=DURATION:PT1H
X-Robots-Tag:noindex
X-PUBLISHED-TTL:PT1H
BEGIN:VTIMEZONE
TZID:Asia/Tokyo
BEGIN:STANDARD
TZOFFSETFROM:+0900
TZOFFSETTO:+0900
TZNAME:JST
DTSTART:20210101T000000
END:STANDARD
END:VTIMEZONE
BEGIN:VEVENT
DTSTART;TZID=Asia/Tokyo:20220920T140000
DTEND;TZID=Asia/Tokyo:20220920T163000
DTSTAMP:20260426T120907
CREATED:20220320T213351Z
LAST-MODIFIED:20220916T232511Z
UID:682-1663682400-1663691400@igyo-support.com
SUMMARY:第18回 医師とクリニックの税務 [2022年9月20日(火) 14:00-16:00 @ウインクあいち]
DESCRIPTION:院長に相続が発生した場合、配偶者が負担する相続税はどう計算されるのかご存知ですか？\n生前にしておくべき対策について、夫婦で話し合ったことはありますか？\nお子さんへ効率的な財産承継を始めていますか？ \n健全なクリニック経営には、ご家族みなさんの生活の安定が必要です。 \n今回は相続税の基礎を学びながら、将来の相続で困らないため、今からできる相続対策をご説明いたします。 \n\n\n\n[講師]\nMAC&BPミッドランド税理士法人　税理士　松崎　さくら\n\n\n[日時]\n第16回｜ 2022年9月20日(火)\n\n\n[時間]\n講演時間／14:00-15:30　質疑応答／15:30-　終了予定／16:00\n\n\n[会場]\nウインクあいち 1004号室 もしくは オンラインZoom受講\n\n\n\n \n \n \nセミナーにオンラインで参加する\n\n \n \n※zoomに入室された際に、zoom表示名をご自身のお名前でない方はご自身のお名前へ変更をお願いします。なりすまし対策の為、ご協力をお願いいたします。 \n \n\n\n以下、当日使用するセミナー資料となります。\n当日までにダウンロード、印刷のご準備の程よろしくお願いします。 \n▶︎ 相続税の基礎知識と今すべき対策
URL:https://igyo-support.com/event/20220920/
CATEGORIES:セミナー
ATTACH;FMTTYPE=image/gif:https://igyo-support.com/wp-content/uploads/2022/03/中部医業経営サポート　動画サムネイル　20220920-松崎さくら1.gif
END:VEVENT
END:VCALENDAR