BEGIN:VCALENDAR
VERSION:2.0
PRODID:-//中部医業（クリニック）経営サポート - ECPv6.15.20//NONSGML v1.0//EN
CALSCALE:GREGORIAN
METHOD:PUBLISH
X-ORIGINAL-URL:https://igyo-support.com
X-WR-CALDESC:中部医業（クリニック）経営サポート のイベント
REFRESH-INTERVAL;VALUE=DURATION:PT1H
X-Robots-Tag:noindex
X-PUBLISHED-TTL:PT1H
BEGIN:VTIMEZONE
TZID:Asia/Tokyo
BEGIN:STANDARD
TZOFFSETFROM:+0900
TZOFFSETTO:+0900
TZNAME:JST
DTSTART:20210101T000000
END:STANDARD
END:VTIMEZONE
BEGIN:VEVENT
DTSTART;TZID=Asia/Tokyo:20220823T140000
DTEND;TZID=Asia/Tokyo:20220823T163000
DTSTAMP:20260426T132203
CREATED:20220320T213317Z
LAST-MODIFIED:20220815T232744Z
UID:680-1661263200-1661272200@igyo-support.com
SUMMARY:第17回 保険を用いた経営戦略 [2022年8月23日(火) 14:00-16:00 @ウインクあいち]
DESCRIPTION:金融機関の売りたいものと買うべき商品は一致しない!!\n税金・金融商品の仕組みをよく理解し、ご自身にとって一番最適な選択肢を取り入れていきましょう。 \n税の仕組みと制度のメリット\n◆ 所得税の仕組み\n◆ 退職金税制のメリット\n◆ 生命保険の仕組み\n◆ 税効果商品の紹介\nなどをご説明していきます。 \n\n\n\n[講師]\nリスクマネジメント・ラボラトリー名古屋支店　支店長　竹内直樹\n\n\n[日時]\n第15回｜ 2022年8月23日(火)\n\n\n[時間]\n講演時間／14:00-15:30　質疑応答／15:30-　終了予定／16:00\n\n\n[会場]\nウインクあいち 1005号室 もしくは オンラインZoom受講\n\n\n\n \n \n \nセミナーにオンラインで参加する\n\n \n \n※zoomに入室された際に、zoom表示名をご自身のお名前でない方はご自身のお名前へ変更をお願いします。なりすまし対策の為、ご協力をお願いいたします。 \n \n\n\n以下、当日使用するセミナー資料となります。\n当日までにダウンロード、印刷のご準備の程よろしくお願いします。 \n▶︎ 保険を用いた経営戦略
URL:https://igyo-support.com/event/20220823/
CATEGORIES:セミナー
END:VEVENT
END:VCALENDAR