BEGIN:VCALENDAR
VERSION:2.0
PRODID:-//中部医業（クリニック）経営サポート - ECPv6.15.20//NONSGML v1.0//EN
CALSCALE:GREGORIAN
METHOD:PUBLISH
X-WR-CALNAME:中部医業（クリニック）経営サポート
X-ORIGINAL-URL:https://igyo-support.com
X-WR-CALDESC:中部医業（クリニック）経営サポート のイベント
REFRESH-INTERVAL;VALUE=DURATION:PT1H
X-Robots-Tag:noindex
X-PUBLISHED-TTL:PT1H
BEGIN:VTIMEZONE
TZID:Asia/Tokyo
BEGIN:STANDARD
TZOFFSETFROM:+0900
TZOFFSETTO:+0900
TZNAME:JST
DTSTART:20250101T000000
END:STANDARD
END:VTIMEZONE
BEGIN:VEVENT
DTSTART;TZID=Asia/Tokyo:20260519T140000
DTEND;TZID=Asia/Tokyo:20260519T160000
DTSTAMP:20260424T023238
CREATED:20260421T014454Z
LAST-MODIFIED:20260421T014454Z
UID:1648-1779199200-1779206400@igyo-support.com
SUMMARY:第62回 クリニックの事務仕事を手間100時間減らすAI活用法　[2026年5月19日(火) 14:00-16:00]
DESCRIPTION:
URL:https://igyo-support.com/event/260519/
END:VEVENT
BEGIN:VEVENT
DTSTART;TZID=Asia/Tokyo:20260616T140000
DTEND;TZID=Asia/Tokyo:20260616T160000
DTSTAMP:20260424T023238
CREATED:20260421T014617Z
LAST-MODIFIED:20260421T014636Z
UID:1651-1781618400-1781625600@igyo-support.com
SUMMARY:第63回 厚生労働省が考えている次世代医療について　[2026年6月16日(火) 14:00-16:00]
DESCRIPTION:
URL:https://igyo-support.com/event/260616/
END:VEVENT
BEGIN:VEVENT
DTSTART;TZID=Asia/Tokyo:20260721T140000
DTEND;TZID=Asia/Tokyo:20260721T160000
DTSTAMP:20260424T023238
CREATED:20260421T014747Z
LAST-MODIFIED:20260421T014747Z
UID:1653-1784642400-1784649600@igyo-support.com
SUMMARY:第64回 医業の助成金 - 補助金との違い -　[2026年7月21日(火) 14:00-16:00]
DESCRIPTION:
URL:https://igyo-support.com/event/260721/
END:VEVENT
BEGIN:VEVENT
DTSTART;TZID=Asia/Tokyo:20260818T140000
DTEND;TZID=Asia/Tokyo:20260818T160000
DTSTAMP:20260424T023238
CREATED:20260421T014843Z
LAST-MODIFIED:20260421T014843Z
UID:1655-1787061600-1787068800@igyo-support.com
SUMMARY:第65回 ドクター相続　[2026年8月18日(火) 14:00-16:00]
DESCRIPTION:
URL:https://igyo-support.com/event/260818/
END:VEVENT
BEGIN:VEVENT
DTSTART;TZID=Asia/Tokyo:20260915T143000
DTEND;TZID=Asia/Tokyo:20260915T160000
DTSTAMP:20260424T023238
CREATED:20260421T014947Z
LAST-MODIFIED:20260421T014947Z
UID:1657-1789482600-1789488000@igyo-support.com
SUMMARY:第66回 投資の基本と医療法人の運用状況　[2026年9月15日(火) 14:00-16:00]
DESCRIPTION:
URL:https://igyo-support.com/event/260915/
END:VEVENT
BEGIN:VEVENT
DTSTART;TZID=Asia/Tokyo:20261020T140000
DTEND;TZID=Asia/Tokyo:20261020T160000
DTSTAMP:20260424T023238
CREATED:20260421T015059Z
LAST-MODIFIED:20260421T015059Z
UID:1659-1792504800-1792512000@igyo-support.com
SUMMARY:第67回 医療現場で活かすコーチングとアサーティブコミュニケーション　[2026年10月20日(火) 14:00-16:00]
DESCRIPTION:
URL:https://igyo-support.com/event/261020/
END:VEVENT
BEGIN:VEVENT
DTSTART;TZID=Asia/Tokyo:20261117T140000
DTEND;TZID=Asia/Tokyo:20261117T160000
DTSTAMP:20260424T023238
CREATED:20260421T015224Z
LAST-MODIFIED:20260421T015224Z
UID:1661-1794924000-1794931200@igyo-support.com
SUMMARY:第68回 2026年検索はこう変わる！医療web戦略のためのHP健康診断　[2026年11月17日(火) 14:00-16:00]
DESCRIPTION:
URL:https://igyo-support.com/event/261117/
END:VEVENT
BEGIN:VEVENT
DTSTART;TZID=Asia/Tokyo:20261215T140000
DTEND;TZID=Asia/Tokyo:20261215T160000
DTSTAMP:20260424T023238
CREATED:20260421T015321Z
LAST-MODIFIED:20260421T015321Z
UID:1663-1797343200-1797350400@igyo-support.com
SUMMARY:第69回 生命保険の出口戦略　[2026年12月15日(火) 14:00-16:00]
DESCRIPTION:
URL:https://igyo-support.com/event/261215/
END:VEVENT
BEGIN:VEVENT
DTSTART;TZID=Asia/Tokyo:20270119T130000
DTEND;TZID=Asia/Tokyo:20270119T160000
DTSTAMP:20260424T023238
CREATED:20260421T015431Z
LAST-MODIFIED:20260421T015431Z
UID:1665-1800363600-1800374400@igyo-support.com
SUMMARY:第70回 まだまだ伸びる！医療OOH広告　[2027年1月19日(火) 14:00-16:00]
DESCRIPTION:
URL:https://igyo-support.com/event/270119/
END:VEVENT
BEGIN:VEVENT
DTSTART;TZID=Asia/Tokyo:20270216T140000
DTEND;TZID=Asia/Tokyo:20270216T160000
DTSTAMP:20260424T023238
CREATED:20260421T015529Z
LAST-MODIFIED:20260421T015659Z
UID:1667-1802786400-1802793600@igyo-support.com
SUMMARY:第71回 シークレットゲスト　[2027年2月16日(火) 14:00-16:00]
DESCRIPTION:
URL:https://igyo-support.com/event/260216/
END:VEVENT
BEGIN:VEVENT
DTSTART;TZID=Asia/Tokyo:20270316T140000
DTEND;TZID=Asia/Tokyo:20270316T160000
DTSTAMP:20260424T023238
CREATED:20260421T015626Z
LAST-MODIFIED:20260421T015626Z
UID:1669-1805205600-1805212800@igyo-support.com
SUMMARY:第72回 シークレットゲスト　[2027年3月16日(火) 14:00-16:00]
DESCRIPTION:
URL:https://igyo-support.com/event/270316/
END:VEVENT
END:VCALENDAR